BEGIN:VCALENDAR
VERSION:2.0
PRODID:-//St Joseph’s Primary Wee Waa - ECPv4.5.13//NONSGML v1.0//EN
CALSCALE:GREGORIAN
METHOD:PUBLISH
X-WR-CALNAME:St Joseph’s Primary Wee Waa
X-ORIGINAL-URL:https://stjosephsweewaa.catholic.edu.au
X-WR-CALDESC:Events for St Joseph’s Primary Wee Waa
BEGIN:VEVENT
DTSTART;TZID=Australia/Sydney:20190703T151500
DTEND;TZID=Australia/Sydney:20190703T193000
DTSTAMP:20200301T223125
CREATED:20190619T224016Z
LAST-MODIFIED:20190703T192856Z
UID:4366-1562166900-1562182200@stjosephsweewaa.catholic.edu.au
SUMMARY:Parent Teacher Interviews
DESCRIPTION:
URL:https://stjosephsweewaa.catholic.edu.au/event/parent-teacher-interviews-4/
END:VEVENT
END:VCALENDAR