BEGIN:VCALENDAR
VERSION:2.0
PRODID:-//St Joseph’s Primary Wee Waa - ECPv4.5.13//NONSGML v1.0//EN
CALSCALE:GREGORIAN
METHOD:PUBLISH
X-WR-CALNAME:St Joseph’s Primary Wee Waa
X-ORIGINAL-URL:https://stjosephsweewaa.catholic.edu.au
X-WR-CALDESC:Events for St Joseph’s Primary Wee Waa
BEGIN:VEVENT
DTSTART;VALUE=DATE:20190611
DTEND;VALUE=DATE:20190611
DTSTAMP:20200301T223908
CREATED:20190503T070318Z
LAST-MODIFIED:20190611T205211Z
UID:4110-1560211200-1560297599@stjosephsweewaa.catholic.edu.au
SUMMARY:Pupil Free Day
DESCRIPTION:
URL:https://stjosephsweewaa.catholic.edu.au/event/pupil-free-day/
END:VEVENT
END:VCALENDAR