BEGIN:VCALENDAR
VERSION:2.0
PRODID:-//St Joseph’s Primary Wee Waa - ECPv4.5.13//NONSGML v1.0//EN
CALSCALE:GREGORIAN
METHOD:PUBLISH
X-WR-CALNAME:St Joseph’s Primary Wee Waa
X-ORIGINAL-URL:https://stjosephsweewaa.catholic.edu.au
X-WR-CALDESC:Events for St Joseph’s Primary Wee Waa
BEGIN:VEVENT
DTSTART;VALUE=DATE:20190702
DTEND;VALUE=DATE:20190702
DTSTAMP:20200301T223303
CREATED:20190503T070327Z
LAST-MODIFIED:20190702T190603Z
UID:4112-1562025600-1562111999@stjosephsweewaa.catholic.edu.au
SUMMARY:School Photos
DESCRIPTION:
URL:https://stjosephsweewaa.catholic.edu.au/event/school-photos/
END:VEVENT
END:VCALENDAR