BEGIN:VCALENDAR
VERSION:2.0
PRODID:-//St Joseph’s Primary Wee Waa - ECPv4.5.13//NONSGML v1.0//EN
CALSCALE:GREGORIAN
METHOD:PUBLISH
X-WR-CALNAME:St Joseph’s Primary Wee Waa
X-ORIGINAL-URL:https://stjosephsweewaa.catholic.edu.au
X-WR-CALDESC:Events for St Joseph’s Primary Wee Waa
BEGIN:VEVENT
DTSTART;TZID=Australia/Sydney:20190530T144000
DTEND;TZID=Australia/Sydney:20190530T150000
DTSTAMP:20200301T224221
CREATED:20190516T204226Z
LAST-MODIFIED:20190530T171724Z
UID:4238-1559227200-1559228400@stjosephsweewaa.catholic.edu.au
SUMMARY:St Joseph's School Assembly
DESCRIPTION:All parents and friends are welcome to join us for assembly on Thursday afternoon. \n
URL:https://stjosephsweewaa.catholic.edu.au/event/st-josephs-school-assembly/
END:VEVENT
END:VCALENDAR